BEGIN:VCALENDAR
VERSION:2.0
PRODID:-//Discoteca Terraza Isla de Mar Santa Cruz de Tenerife - ECPv5.1.5//NONSGML v1.0//EN
CALSCALE:GREGORIAN
METHOD:PUBLISH
X-WR-CALNAME:Discoteca Terraza Isla de Mar Santa Cruz de Tenerife
X-ORIGINAL-URL:http://www.islademar.com
X-WR-CALDESC:Eventos para Discoteca Terraza Isla de Mar Santa Cruz de Tenerife
BEGIN:VTIMEZONE
TZID:Europe/Paris
BEGIN:DAYLIGHT
TZOFFSETFROM:+0100
TZOFFSETTO:+0200
TZNAME:CEST
DTSTART:20180325T010000
END:DAYLIGHT
BEGIN:STANDARD
TZOFFSETFROM:+0200
TZOFFSETTO:+0100
TZNAME:CET
DTSTART:20181028T010000
END:STANDARD
END:VTIMEZONE
BEGIN:VEVENT
DTSTART;TZID=Europe/Paris:20180719T230000
DTEND;TZID=Europe/Paris:20180719T230000
DTSTAMP:20260426T031705
CREATED:20180715T100031Z
LAST-MODIFIED:20180713T100440Z
UID:16491-1532041200-1532041200@www.islademar.com
SUMMARY:Puro Jueves - 19 de Julio de 2018
DESCRIPTION:Las noches de reggaeton en Terraza Isla de Mar\, la terraza de verano de Santa Cruz se llaman: “PuroJueves” \n¡Listas abiertas! \nTal y como nos has pedido\, “PuroJueves” te trae una hora más de diversión \n¡Abrimos puertas desde las 23:00h.! \nApúntate en La Lista en: lalista.islademar.com \n▪Entrada GRATIS de 23:00h. hasta 00:30h. por lista SIN consumición\n▪Entrada 7€ de 00:30 – 02:00h con consumición\nReservados: 130€ (5 personas por botella)\nSIN lista: 10€. \nℹ Info: +34 664 254 797⁠ \n⚠ “Estar en lista” significa un precio de la entrada\, no implica el derecho a entrar.\n⏱ Calcula el tiempo de la cola para que puedas entrar bajo las condiciones deseadas.\nProhibida la entrada a menores de edad.\n☝DNI obligatorio. \n
URL:http://www.islademar.com/event/puro-jueves-19-de-julio-de-2018/
CATEGORIES:Fiestas Isla de Mar
ATTACH;FMTTYPE=image/jpeg:http://www.islademar.com/wp-content/uploads/2018/07/purojuevesopeningfvertical19.jpg
END:VEVENT
END:VCALENDAR