BEGIN:VCALENDAR
VERSION:2.0
PRODID:-//Discoteca Terraza Isla de Mar Santa Cruz de Tenerife - ECPv5.1.5//NONSGML v1.0//EN
CALSCALE:GREGORIAN
METHOD:PUBLISH
X-WR-CALNAME:Discoteca Terraza Isla de Mar Santa Cruz de Tenerife
X-ORIGINAL-URL:http://www.islademar.com
X-WR-CALDESC:Eventos para Discoteca Terraza Isla de Mar Santa Cruz de Tenerife
BEGIN:VTIMEZONE
TZID:Europe/Paris
BEGIN:DAYLIGHT
TZOFFSETFROM:+0100
TZOFFSETTO:+0200
TZNAME:CEST
DTSTART:20190331T010000
END:DAYLIGHT
BEGIN:STANDARD
TZOFFSETFROM:+0200
TZOFFSETTO:+0100
TZNAME:CET
DTSTART:20191027T010000
END:STANDARD
END:VTIMEZONE
BEGIN:VEVENT
DTSTART;TZID=Europe/Paris:20190907T235900
DTEND;TZID=Europe/Paris:20190907T235900
DTSTAMP:20260425T223359
CREATED:20190903T102649Z
LAST-MODIFIED:20190903T102649Z
UID:30304-1567900740-1567900740@www.islademar.com
SUMMARY:La Lista con Nicola Fasano | 7 SEP 2019 | Terraza Isla de Mar
DESCRIPTION:❗Vuelve ‍✈ Nicola Fasano ‍✈ a #TerrazaIslaDeMar  ❗ \nEl dj y productor italiano aterriza con su Babylonia Summer Tour en nuestra fiesta de #LaLista  de este sábado 7 de septiembre \n❗Apúntate ya a través de  lalista.islademar.com o en #IslaDeMarAPP  y disfruta del mejor espectáculo en #ElCorazóndeTenerife ❗ \n✅ Entrada GRATIS de 00:00h. hasta 01:30h. por lista SIN consumición\n✅ Entrada 7€ de 01:30h. – 03:00h con consumición\n✅ Reservados: 130€ (5 personas por botella)\n✅ SIN lista: 10€. \n☎ Info: +34 664 254 797⁠ \n⭕ “Estar en lista” significa un precio de la entrada\, no implica el derecho a entrar.\n⭕ Calcula el tiempo de la cola para que puedas entrar bajo las condiciones deseadas.\n⭕ Prohibida la entrada a menores de edad.\n⭕ DNI obligatorio. \nY recuerda\, en las fiestas de  La Lista  de Terraza #IslaDeMar gracias a Monster Energy \, tu combinado  con bebida energética Monster ❗NO❗ tiene suplemento. ❗Así que ya sabes❗ Si entras por lista  y pagas 7€ o 10€ con consumición\, si en barra pides un combinado con Monster ya no habrá suplemento  \nEsta oferta ❗SÓLO❗ es aplicable en las fiestas de La Lista de Terraza Isla de Mar pidiendo un combinado con bebida energética Monster \n
URL:http://www.islademar.com/event/la-lista-con-nicola-fasano-7-sep-2019-terraza-isla-de-mar/
CATEGORIES:Fiestas Isla de Mar
ATTACH;FMTTYPE=image/jpeg:http://www.islademar.com/wp-content/uploads/2019/09/Flyer-Babylonia-3medium.jpg
END:VEVENT
END:VCALENDAR