BEGIN:VCALENDAR
VERSION:2.0
PRODID:-//Discoteca Terraza Isla de Mar Santa Cruz de Tenerife - ECPv5.1.5//NONSGML v1.0//EN
CALSCALE:GREGORIAN
METHOD:PUBLISH
X-WR-CALNAME:Discoteca Terraza Isla de Mar Santa Cruz de Tenerife
X-ORIGINAL-URL:http://www.islademar.com
X-WR-CALDESC:Eventos para Discoteca Terraza Isla de Mar Santa Cruz de Tenerife
BEGIN:VTIMEZONE
TZID:Europe/Paris
BEGIN:DAYLIGHT
TZOFFSETFROM:+0100
TZOFFSETTO:+0200
TZNAME:CEST
DTSTART:20190331T010000
END:DAYLIGHT
BEGIN:STANDARD
TZOFFSETFROM:+0200
TZOFFSETTO:+0100
TZNAME:CET
DTSTART:20191027T010000
END:STANDARD
END:VTIMEZONE
BEGIN:VEVENT
DTSTART;TZID=Europe/Paris:20191221T235900
DTEND;TZID=Europe/Paris:20191221T235900
DTSTAMP:20260426T043112
CREATED:20191218T080047Z
LAST-MODIFIED:20191217T152403Z
UID:32694-1576972740-1576972740@www.islademar.com
SUMMARY:JONAY AMADOR + La Lista | 21 DIC 2019 | Terraza Isla de Mar
DESCRIPTION:❗❗JONAY AMADOR vuelve a casa por Navidad❗❗ Disfruta este sábado 21 de diciembre de una de las sesiones más esperadas y reconocidas del panorama en las Islas Canarias en #TerrazaIslaDeMar  \n✏ Apúntate en #LaLista del sábado a través de #IslaDeMarAPP  o en  lalista.islademar.com y aprovéchate de las ventajas de estar en lista \n✅ Entrada GRATIS de 00:00h. hasta 01:30h. por lista SIN consumición\n✅ Entrada 7€ de 01:30h. – 03:00h con consumición\n✅ Reservados: 130€ (5 personas por botella)\n✅ SIN lista: 10€. \n☎ Info: +34 664 254 797⁠ \n⭕ “Estar en lista” significa un precio de la entrada\, no implica el derecho a entrar.\n⭕ Calcula el tiempo de la cola para que puedas entrar bajo las condiciones deseadas.\n⭕ Prohibida la entrada a menores de edad  .\n⭕ DNI obligatorio.\n⭕ Vestimenta acorde a temporada de invierno.\n Prohibido pantalones cortos\, calzado informal\, camisetas de asillas\, gorras y vestimenta deportiva. \nY recuerda\, en las fiestas de  La Lista  de Terraza #IslaDeMar gracias a Monster Energy \, tu combinado  con bebida energética Monster ❗NO❗ tiene suplemento. ❗Así que ya sabes❗ Si entras por lista  y pagas 7€ o 10€ con consumición\, si en barra pides un combinado con Monster ya no habrá suplemento  \nEsta oferta ❗SÓLO❗ es aplicable en las fiestas de La Lista de Terraza Isla de Mar pidiendo un combinado con bebida energética Monster \n
URL:http://www.islademar.com/event/jonay-amador-la-lista-21-dic-2019-terraza-isla-de-mar/
CATEGORIES:Fiestas Isla de Mar
ATTACH;FMTTYPE=image/jpeg:http://www.islademar.com/wp-content/uploads/2019/12/JONAYAMADOR_VERTICAL.jpg
END:VEVENT
END:VCALENDAR