BEGIN:VCALENDAR
VERSION:2.0
PRODID:-//Discoteca Terraza Isla de Mar Santa Cruz de Tenerife - ECPv5.1.5//NONSGML v1.0//EN
CALSCALE:GREGORIAN
METHOD:PUBLISH
X-WR-CALNAME:Discoteca Terraza Isla de Mar Santa Cruz de Tenerife
X-ORIGINAL-URL:http://www.islademar.com
X-WR-CALDESC:Eventos para Discoteca Terraza Isla de Mar Santa Cruz de Tenerife
BEGIN:VTIMEZONE
TZID:Europe/Paris
BEGIN:DAYLIGHT
TZOFFSETFROM:+0100
TZOFFSETTO:+0200
TZNAME:CEST
DTSTART:20200329T010000
END:DAYLIGHT
BEGIN:STANDARD
TZOFFSETFROM:+0200
TZOFFSETTO:+0100
TZNAME:CET
DTSTART:20201025T010000
END:STANDARD
END:VTIMEZONE
BEGIN:VEVENT
DTSTART;TZID=Europe/Paris:20200723T220000
DTEND;TZID=Europe/Paris:20200723T220000
DTSTAMP:20260426T023939
CREATED:20200721T150429Z
LAST-MODIFIED:20200721T150429Z
UID:34146-1595541600-1595541600@www.islademar.com
SUMMARY:[EVENTO] Terraceo by Terraza Isla de Mar | JUE 23 JUL | Terraza Isla de Mar
DESCRIPTION:Se acerca un nuevo JUEVES y lo que significa que llega el primer Terraceo 🌆 by Terraza Isla de Mar 🐢 del fin de semana \n❗RESERVA YA❗ tu mesa + botella 🍾 llamando o enviado WhatsApp al 664 254 797 📲 en la ❗ÚNICA terraza 100% descubierta y al aire libre en #ElCorazónDeTenerife 💙💚❗ \nAbrimos nuestras puertas desde las 22:00h. 🕧 para que disfrutes del «#Terraceo by Terraza Isla de Mar». \nAFORO MUY LIMITADO\, RESERVA YA (664 254 797 📲) y no te quedes sin poder asistir. \n
URL:http://www.islademar.com/event/evento-terraceo-by-terraza-isla-de-mar-jue-23-jul-terraza-isla-de-mar/
CATEGORIES:Fiestas Isla de Mar
ATTACH;FMTTYPE=image/png:http://www.islademar.com/wp-content/uploads/2020/07/4.5_TERRACEO_23JUL.png
END:VEVENT
END:VCALENDAR