BEGIN:VCALENDAR
VERSION:2.0
PRODID:-//Discoteca Terraza Isla de Mar Santa Cruz de Tenerife - ECPv5.1.5//NONSGML v1.0//EN
CALSCALE:GREGORIAN
METHOD:PUBLISH
X-WR-CALNAME:Discoteca Terraza Isla de Mar Santa Cruz de Tenerife
X-ORIGINAL-URL:http://www.islademar.com
X-WR-CALDESC:Eventos para Discoteca Terraza Isla de Mar Santa Cruz de Tenerife
BEGIN:VTIMEZONE
TZID:Europe/Paris
BEGIN:DAYLIGHT
TZOFFSETFROM:+0100
TZOFFSETTO:+0200
TZNAME:CEST
DTSTART:20200329T010000
END:DAYLIGHT
BEGIN:STANDARD
TZOFFSETFROM:+0200
TZOFFSETTO:+0100
TZNAME:CET
DTSTART:20201025T010000
END:STANDARD
END:VTIMEZONE
BEGIN:VEVENT
DTSTART;TZID=Europe/Paris:20200605T190000
DTEND;TZID=Europe/Paris:20200607T020000
DTSTAMP:20260425T222431
CREATED:20200601T190526Z
LAST-MODIFIED:20200601T190526Z
UID:34074-1591383600-1591495200@www.islademar.com
SUMMARY:[EVENTO] Terraceo by Terraza Isla de Mar
DESCRIPTION:El Terraceo by Terraza Isla de Mar ha venido para quedarse \n¡Recuerda que el AFORO ES MUY LIMITADO! Reserva tu mesa llamando o mandando WhatsApp al 664 254 797. \n\nReservado Mesa 4 personas – Botella (No premium) + 12 refrescos + servicio en mesa: 80€\nCopa (balón): 6€\n\nCada viernes y sábado\, desde las 19:00h. ven a disfrutar del mejor ambiente a tu Terraza en El Corazón de Tenerife. \n
URL:http://www.islademar.com/event/evento-terraceo-by-terraza-isla-de-mar-3/
CATEGORIES:Fiestas Isla de Mar
ATTACH;FMTTYPE=image/png:http://www.islademar.com/wp-content/uploads/2020/06/CARTEL-FIJO_4.5-1.png
END:VEVENT
END:VCALENDAR