BEGIN:VCALENDAR
VERSION:2.0
PRODID:-//Discoteca Terraza Isla de Mar Santa Cruz de Tenerife - ECPv5.1.5//NONSGML v1.0//EN
CALSCALE:GREGORIAN
METHOD:PUBLISH
X-WR-CALNAME:Discoteca Terraza Isla de Mar Santa Cruz de Tenerife
X-ORIGINAL-URL:http://www.islademar.com
X-WR-CALDESC:Eventos para Discoteca Terraza Isla de Mar Santa Cruz de Tenerife
BEGIN:VTIMEZONE
TZID:Europe/Paris
BEGIN:DAYLIGHT
TZOFFSETFROM:+0100
TZOFFSETTO:+0200
TZNAME:CEST
DTSTART:20200329T010000
END:DAYLIGHT
BEGIN:STANDARD
TZOFFSETFROM:+0200
TZOFFSETTO:+0100
TZNAME:CET
DTSTART:20201025T010000
END:STANDARD
END:VTIMEZONE
BEGIN:VEVENT
DTSTART;TZID=Europe/Paris:20201003T170000
DTEND;TZID=Europe/Paris:20201003T235900
DTSTAMP:20260425T232547
CREATED:20200929T074742Z
LAST-MODIFIED:20201005T075428Z
UID:34241-1601744400-1601769540@www.islademar.com
SUMMARY:[EVENTO] Mysa de Tarde | SAB 3 OCT 2020 | Terraza Isla de Mar
DESCRIPTION: No será una misa cualquiera. Será una Mysa de Tarde.  \n Un planazo que combina a los mejores DJs de Tenerife en la terraza más exclusiva de Santa Cruz. \n MAÑANA – 17:00H a 24:00H.   \nDisolart y los residentes YRM\, Alex Baute\, Felton Hugh y Saúl García. \n Acceso será mediante reservado o entrada en el  650 664 267. \nHorario del evento  17:00h. a 00:00h.  \n USO OBLIGATORIO DE MASCARILLAS PARA ACCEDER. \n
URL:http://www.islademar.com/event/evento-mysa-de-tarde-sab-3-oct-2020-terraza-isla-de-mar/
CATEGORIES:Fiestas Isla de Mar
ATTACH;FMTTYPE=image/jpeg:http://www.islademar.com/wp-content/uploads/2020/10/120699648_1674088499431724_7399908521897701034_o.jpg
END:VEVENT
END:VCALENDAR