BEGIN:VCALENDAR
VERSION:2.0
PRODID:-//Discoteca Terraza Isla de Mar Santa Cruz de Tenerife - ECPv5.1.5//NONSGML v1.0//EN
CALSCALE:GREGORIAN
METHOD:PUBLISH
X-WR-CALNAME:Discoteca Terraza Isla de Mar Santa Cruz de Tenerife
X-ORIGINAL-URL:http://www.islademar.com
X-WR-CALDESC:Eventos para Discoteca Terraza Isla de Mar Santa Cruz de Tenerife
BEGIN:VTIMEZONE
TZID:Europe/Paris
BEGIN:DAYLIGHT
TZOFFSETFROM:+0100
TZOFFSETTO:+0200
TZNAME:CEST
DTSTART:20200329T010000
END:DAYLIGHT
BEGIN:STANDARD
TZOFFSETFROM:+0200
TZOFFSETTO:+0100
TZNAME:CET
DTSTART:20201025T010000
END:STANDARD
END:VTIMEZONE
BEGIN:VEVENT
DTSTART;TZID=Europe/Paris:20200920T170000
DTEND;TZID=Europe/Paris:20200920T170000
DTSTAMP:20260425T234526
CREATED:20200918T063016Z
LAST-MODIFIED:20200917T135012Z
UID:34206-1600621200-1600621200@www.islademar.com
SUMMARY:[EVENTO] Mysa de Tarde Food & Music | 20 SEP 2020 | Terraza Isla de Mar
DESCRIPTION:❗❗ATENCIÓN❗❗ VUELVE Mysa de Tarde 🙏 \nEste domingo 20 de septiembre #TerrazaIslaDeMar 🐢 vuelva a convertirse en tu TEMPLO favorito para disfrutar de la Mysa de los domingos ahora con #FOODandMUSIC⛪ \nPara ello contaremos con un artistas referentes en la isla de #Tenerife: HANFRY MARTÍNEZ y junto a él los residentes The Hernández\, Alex Wellmann\, Alex Baute y Joel Arrocha. \n🔴 Acceso será mediante reservado o entrada en el ☎️ 650 664 267. \nHorario del evento 🕕17:00h. a 1:00h. 🕜 \n🔴USO OBLIGATORIO DE MASCARILLAS PARA ACCEDER🔴 \n
URL:http://www.islademar.com/event/evento-mysa-de-tarde-food-music-20-sep-2020-terraza-isla-de-mar/
CATEGORIES:Fiestas Isla de Mar
ATTACH;FMTTYPE=image/jpeg:http://www.islademar.com/wp-content/uploads/2020/09/WhatsApp-Image-2020-09-16-at-14.13.33.jpeg
END:VEVENT
END:VCALENDAR