BEGIN:VCALENDAR
VERSION:2.0
PRODID:-//Discoteca Terraza Isla de Mar Santa Cruz de Tenerife - ECPv5.1.5//NONSGML v1.0//EN
CALSCALE:GREGORIAN
METHOD:PUBLISH
X-WR-CALNAME:Discoteca Terraza Isla de Mar Santa Cruz de Tenerife
X-ORIGINAL-URL:http://www.islademar.com
X-WR-CALDESC:Eventos para Discoteca Terraza Isla de Mar Santa Cruz de Tenerife
BEGIN:VTIMEZONE
TZID:Europe/Paris
BEGIN:DAYLIGHT
TZOFFSETFROM:+0100
TZOFFSETTO:+0200
TZNAME:CEST
DTSTART:20200329T010000
END:DAYLIGHT
BEGIN:STANDARD
TZOFFSETFROM:+0200
TZOFFSETTO:+0100
TZNAME:CET
DTSTART:20201025T010000
END:STANDARD
END:VTIMEZONE
BEGIN:VEVENT
DTSTART;TZID=Europe/Paris:20201122T170000
DTEND;TZID=Europe/Paris:20201122T230000
DTSTAMP:20260425T205200
CREATED:20201119T120339Z
LAST-MODIFIED:20201119T120339Z
UID:34288-1606064400-1606086000@www.islademar.com
SUMMARY:[EVENTO] Mysa de Tarde | DOM 22 NOVIEMBRE 2020 | Terraza Isla de Mar
DESCRIPTION:¡ESTE DOMINGO\, TODOS JUNTOS A MYSA DE TARDE! \nPróximo DOMINGO 22 DE NOVIEMBRE. \nFLAMINGOS \nEdición donde podrás disfrutar en el templo de la música\, desde las 17:00\, al cierre\, pudiendo comer\, beber\, disfrutar con el equipo de Terraza Isla de Mar. \nEn esta ocasión\, la plegaria sera dada por; \nYRM – SERGIO GLEZ – KEVIN DEEP\n \n A \nMesa con botella: llamando o enviando WhatsApp al 650664267. Disfruta de un #OcioResponsable durante las tardes de los domingos en la Ú terraza % cubierta de El Corazón De Tenerife. \nAbrimos puertas desde las 17:00h.\, hasta las 23:00h. \n  \,   (650664267) y no te quedes sin poder asistir. \n
URL:http://www.islademar.com/event/evento-mysa-de-tarde-dom-22-noviembre-2020-terraza-isla-de-mar/
CATEGORIES:Fiestas Isla de Mar
ATTACH;FMTTYPE=image/png:http://www.islademar.com/wp-content/uploads/2020/11/sp_THR33_mysaDeTarde_21112020.png
END:VEVENT
END:VCALENDAR