BEGIN:VCALENDAR
VERSION:2.0
PRODID:-//Discoteca Terraza Isla de Mar Santa Cruz de Tenerife - ECPv5.1.5//NONSGML v1.0//EN
CALSCALE:GREGORIAN
METHOD:PUBLISH
X-WR-CALNAME:Discoteca Terraza Isla de Mar Santa Cruz de Tenerife
X-ORIGINAL-URL:http://www.islademar.com
X-WR-CALDESC:Eventos para Discoteca Terraza Isla de Mar Santa Cruz de Tenerife
BEGIN:VTIMEZONE
TZID:Europe/Paris
BEGIN:DAYLIGHT
TZOFFSETFROM:+0100
TZOFFSETTO:+0200
TZNAME:CEST
DTSTART:20200329T010000
END:DAYLIGHT
BEGIN:STANDARD
TZOFFSETFROM:+0200
TZOFFSETTO:+0100
TZNAME:CET
DTSTART:20201025T010000
END:STANDARD
END:VTIMEZONE
BEGIN:VEVENT
DTSTART;TZID=Europe/Paris:20201128T170000
DTEND;TZID=Europe/Paris:20201128T230000
DTSTAMP:20260425T205354
CREATED:20201125T105711Z
LAST-MODIFIED:20201128T110221Z
UID:34294-1606582800-1606604400@www.islademar.com
SUMMARY:[EVENTO] Los Reyes del Reggaetón | SÁB 28 Nov 2020 | Terraza Isla de Mar
DESCRIPTION:¡TARDE DE PERREO!\n⁣\n¡NOS VEMOS HOY A LAS 17:00 CON LOS REYES DEL REGGAETÓN DE TENERIFE!⁣\n⁣\nY recuerda que a las 12:00H anunciaremos al ganador/a de nuestro SORTEO TOP. ¡Apúrate y participa por una BOTELLA + MESA PARA 5 + REFRESCOS!⁣\n⁣\nReservas: Llamando o enviando un WhatsApp al 664 254 797⁣\n⁣\n#OcioResponsable | El uso de mascarilla será OBLIGATORIO para acceder. \n
URL:http://www.islademar.com/event/evento-los-reyes-del-reggaeton-sab-28-nov-2020-terraza-isla-de-mar/
CATEGORIES:Fiestas Isla de Mar
ATTACH;FMTTYPE=image/png:http://www.islademar.com/wp-content/uploads/2020/11/12.png
END:VEVENT
END:VCALENDAR