BEGIN:VCALENDAR
VERSION:2.0
PRODID:-//Discoteca Terraza Isla de Mar Santa Cruz de Tenerife - ECPv5.1.5//NONSGML v1.0//EN
CALSCALE:GREGORIAN
METHOD:PUBLISH
X-WR-CALNAME:Discoteca Terraza Isla de Mar Santa Cruz de Tenerife
X-ORIGINAL-URL:http://www.islademar.com
X-WR-CALDESC:Eventos para Discoteca Terraza Isla de Mar Santa Cruz de Tenerife
BEGIN:VTIMEZONE
TZID:Europe/Paris
BEGIN:DAYLIGHT
TZOFFSETFROM:+0100
TZOFFSETTO:+0200
TZNAME:CEST
DTSTART:20200329T010000
END:DAYLIGHT
BEGIN:STANDARD
TZOFFSETFROM:+0200
TZOFFSETTO:+0100
TZNAME:CET
DTSTART:20201025T010000
END:STANDARD
END:VTIMEZONE
BEGIN:VEVENT
DTSTART;TZID=Europe/Paris:20201114T170000
DTEND;TZID=Europe/Paris:20201114T235900
DTSTAMP:20260425T223507
CREATED:20201110T152334Z
LAST-MODIFIED:20201110T152334Z
UID:34276-1605373200-1605398340@www.islademar.com
SUMMARY:[EVENTO] Los Reyes del Reggaetón | SÁB 14 NOV 2020 | Terraza Isla de Mar
DESCRIPTION:¡ESTE SÁBADO SE PERREA! \nRESERVADOS DISPONIBLES | Gózate una tarde única con los reyes del reggaetón de Tenerife en Terraza Isla De Mar. \nSÁB 14 NOV | DESDE LAS 17:00H \nReserva tu mesa ya llamando o enviando un WhatsApp al 664 254 797 y no dejes de asistir. \nUso de mascarilla OBLIGATORIO. \n
URL:http://www.islademar.com/event/evento-los-reyes-del-reggaeton-sab-14-nov-2020-terraza-isla-de-mar/
CATEGORIES:Fiestas Isla de Mar
ATTACH;FMTTYPE=image/png:http://www.islademar.com/wp-content/uploads/2020/11/8.png
END:VEVENT
END:VCALENDAR