BEGIN:VCALENDAR
VERSION:2.0
PRODID:-//Discoteca Terraza Isla de Mar Santa Cruz de Tenerife - ECPv5.1.5//NONSGML v1.0//EN
CALSCALE:GREGORIAN
METHOD:PUBLISH
X-WR-CALNAME:Discoteca Terraza Isla de Mar Santa Cruz de Tenerife
X-ORIGINAL-URL:http://www.islademar.com
X-WR-CALDESC:Eventos para Discoteca Terraza Isla de Mar Santa Cruz de Tenerife
BEGIN:VTIMEZONE
TZID:Europe/Paris
BEGIN:DAYLIGHT
TZOFFSETFROM:+0100
TZOFFSETTO:+0200
TZNAME:CEST
DTSTART:20200329T010000
END:DAYLIGHT
BEGIN:STANDARD
TZOFFSETFROM:+0200
TZOFFSETTO:+0100
TZNAME:CET
DTSTART:20201025T010000
END:STANDARD
END:VTIMEZONE
BEGIN:VEVENT
DTSTART;TZID=Europe/Paris:20200627T235900
DTEND;TZID=Europe/Paris:20200627T235900
DTSTAMP:20260425T205035
CREATED:20200625T140449Z
LAST-MODIFIED:20200625T140449Z
UID:34108-1593302340-1593302340@www.islademar.com
SUMMARY:[EVENTO] La Lista Fluor | 27 JUN 2020 | Terraza Isla de Mar
DESCRIPTION:❗❗Este sábado vuelve el  #LaLista  a #TerrazaIsladeMar  ahora\,  #LaListaFluor  con la  música que te encanta❗❗ \n☝️ Con la llegada del #verano2020 ☀️ es momento de disfrutar de #NochesDePerreo y diversión \nApúntate ya GRATIS  en La Lista de Mesas  haciendo tu reserva llamando o enviando un WhatsApp al   664 252 797⁠  \n⭕ Que se te asigne una mesa a través de La Lista de reserva conlleva un compromiso de consumición para la permanencia en la misma.\n⭕ Prohibida la entrada a menores de edad .\n⭕ DNI obligatorio. \nY recuerda\, en las fiestas de  La Lista  de Terraza #IslaDeMar gracias a Monster Energy \, tu combinado  con bebida energética Monster ❗NO❗ tiene suplemento. ❗Así que ya sabes❗ Si entras por La Lista de Mesas\, si pides un combinado con Monster no tendrá suplemento  \nEsta oferta ❗SÓLO❗ es aplicable en las fiestas de La Lista de Terraza Isla de Mar pidiendo un combinado con bebida energética Monster \n
URL:http://www.islademar.com/event/evento-la-lista-fluor-27-jun-2020-terraza-isla-de-mar/
CATEGORIES:Fiestas Isla de Mar
ATTACH;FMTTYPE=image/png:http://www.islademar.com/wp-content/uploads/2020/06/Captura-de-pantalla-2020-06-25-a-las-15.00.58.png
END:VEVENT
END:VCALENDAR